BEGIN:VCALENDAR
VERSION:2.0
PRODID:-//wp-events-plugin.com//7.0.4//EN
TZID:America/Sao_Paulo
X-WR-TIMEZONE:America/Sao_Paulo
BEGIN:VEVENT
UID:1@vivianedeleon.com.br
DTSTART;TZID=America/Sao_Paulo;VALUE=DATE:20201023
DTEND;TZID=America/Sao_Paulo;VALUE=DATE:20201026
DTSTAMP:20200504T211102Z
URL:https://vivianedeleon.com.br/events/workshop-internacional-early-learn
 ers-no-rio-de-janeiro/
SUMMARY:Workshop Internacional Early Learners no Rio de Janeiro
DESCRIPTION:Workshop Internacional Early Learners Intervenção Precoce no 
 Modelo TEACCH\, Rio de Janeiro
CATEGORIES:Eventos,Workshop Internacional
END:VEVENT
BEGIN:VTIMEZONE
TZID:America/Sao_Paulo
X-LIC-LOCATION:America/Sao_Paulo
BEGIN:STANDARD
DTSTART:20191024T000000
TZOFFSETFROM:-0300
TZOFFSETTO:-0300
TZNAME:-03
END:STANDARD
END:VTIMEZONE
END:VCALENDAR